BEGIN:VCALENDAR
VERSION:2.0
PRODID:-//TVTC - ECPv5.2.0//NONSGML v1.0//EN
CALSCALE:GREGORIAN
METHOD:PUBLISH
X-WR-CALNAME:TVTC
X-ORIGINAL-URL:https://www.tvtc.org
X-WR-CALDESC:Events for TVTC
BEGIN:VTIMEZONE
TZID:America/Chicago
BEGIN:DAYLIGHT
TZOFFSETFROM:-0600
TZOFFSETTO:-0500
TZNAME:CDT
DTSTART:20270314T080000
END:DAYLIGHT
BEGIN:STANDARD
TZOFFSETFROM:-0500
TZOFFSETTO:-0600
TZNAME:CST
DTSTART:20271107T070000
END:STANDARD
END:VTIMEZONE
BEGIN:VEVENT
DTSTART;VALUE=DATE:20270101
DTEND;VALUE=DATE:20270102
DTSTAMP:20260424T055159
CREATED:20211021T173028Z
LAST-MODIFIED:20260120T163323Z
UID:7098-1798761600-1798847999@www.tvtc.org
SUMMARY:Closed for New Year's Day holiday
DESCRIPTION:
URL:https://www.tvtc.org/event/closed-for-new-years-day-holiday/
LOCATION:TVTC Decatur\, 100 Safety Way\, Decatur\, AL\, 35601\, United States
CATEGORIES:Decatur,Gulf Coast - Mobile,Gulf Coast - Pensacola,Memphis
END:VEVENT
END:VCALENDAR